BEGIN:VCALENDAR
VERSION:2.0
PRODID:-//ShulCloud.com//Or Chadash Calendar//EN
CALSCALE:GREGORIAN
X-WR-CALNAME:Or Chadash Calendar
X-WR-TIMEZONE;VALUE=TEXT:Australia/Sydney
METHOD:PUBLISH
www.orchadash.org.auDTSTAMP:20200229T124210
BEGIN:VEVENT
UID:E1706620@shulcloud.com
SUMMARY:Jewish University - Semester One
LOCATION:Zoom
DTSTART:20200212T090000Z
DTEND:20200212T100000Z
END:VEVENT
BEGIN:VEVENT
UID:E1706621@shulcloud.com
SUMMARY:Jewish University - Semester One
LOCATION:Zoom
DTSTART:20200219T090000Z
DTEND:20200219T100000Z
END:VEVENT
BEGIN:VEVENT
UID:E1706622@shulcloud.com
SUMMARY:Jewish University - Semester One
LOCATION:Zoom
DTSTART:20200226T090000Z
DTEND:20200226T100000Z
END:VEVENT
BEGIN:VEVENT
UID:E1706623@shulcloud.com
SUMMARY:Jewish University - Semester One
LOCATION:Zoom
DTSTART:20200304T090000Z
DTEND:20200304T100000Z
END:VEVENT
BEGIN:VEVENT
UID:E1706624@shulcloud.com
SUMMARY:Jewish University - Semester One
LOCATION:Zoom
DTSTART:20200311T090000Z
DTEND:20200311T100000Z
END:VEVENT
BEGIN:VEVENT
UID:E1706625@shulcloud.com
SUMMARY:Jewish University - Semester One
LOCATION:Zoom
DTSTART:20200318T090000Z
DTEND:20200318T100000Z
END:VEVENT
BEGIN:VEVENT
UID:E1706626@shulcloud.com
SUMMARY:Jewish University - Semester One
LOCATION:Zoom
DTSTART:20200325T090000Z
DTEND:20200325T100000Z
END:VEVENT
BEGIN:VEVENT
UID:E1706627@shulcloud.com
SUMMARY:Jewish University - Semester One
LOCATION:Zoom
DTSTART:20200401T090000Z
DTEND:20200401T100000Z
END:VEVENT
BEGIN:VEVENT
UID:E1706628@shulcloud.com
SUMMARY:Jewish University - Semester One
LOCATION:Zoom
DTSTART:20200422T100000Z
DTEND:20200422T110000Z
END:VEVENT
BEGIN:VEVENT
UID:E1706629@shulcloud.com
SUMMARY:Jewish University - Semester One
LOCATION:Zoom
DTSTART:20200429T100000Z
DTEND:20200429T110000Z
END:VEVENT
END:VCALENDAR
