BEGIN:VCALENDAR
VERSION:2.0
PRODID:-//ShulCloud.com//Or Chadash Calendar//EN
CALSCALE:GREGORIAN
X-WR-CALNAME:Or Chadash Calendar
X-WR-TIMEZONE;VALUE=TEXT:Australia/Sydney
METHOD:PUBLISH
www.orchadash.org.auDTSTAMP:20200229T124221
BEGIN:VEVENT
UID:E1751400@shulcloud.com
SUMMARY:Purim Party
LOCATION:56 Roscoe Street\, Bondi
DTSTART:20200309T074500Z
DTEND:20200309T100000Z
END:VEVENT
END:VCALENDAR
